BEGIN:VCALENDAR
VERSION:2.0
PRODID:-//横浜中華街で変面ショーを見よう！ - ECPv6.15.12.2//NONSGML v1.0//EN
CALSCALE:GREGORIAN
METHOD:PUBLISH
X-WR-CALNAME:横浜中華街で変面ショーを見よう！
X-ORIGINAL-URL:https://henmen.jp
X-WR-CALDESC:横浜中華街で変面ショーを見よう！ のイベント
REFRESH-INTERVAL;VALUE=DURATION:PT1H
X-Robots-Tag:noindex
X-PUBLISHED-TTL:PT1H
BEGIN:VTIMEZONE
TZID:Asia/Tokyo
BEGIN:STANDARD
TZOFFSETFROM:+0900
TZOFFSETTO:+0900
TZNAME:JST
DTSTART:20250101T000000
END:STANDARD
END:VTIMEZONE
BEGIN:VEVENT
DTSTART;TZID=Asia/Tokyo:20260118T190000
DTEND;TZID=Asia/Tokyo:20260118T193000
DTSTAMP:20260422T075736
CREATED:20251210T174011Z
LAST-MODIFIED:20251210T174011Z
UID:246-1768762800-1768764600@henmen.jp
SUMMARY:変面ショー・景徳鎮酒家
DESCRIPTION:ご予約先：045-641-5285
URL:https://henmen.jp/event/%e5%a4%89%e9%9d%a2%e3%82%b7%e3%83%a7%e3%83%bc%e3%83%bb%e6%99%af%e5%be%b3%e9%8e%ae%e9%85%92%e5%ae%b6-2/
END:VEVENT
BEGIN:VEVENT
DTSTART;TZID=Asia/Tokyo:20260117T190000
DTEND;TZID=Asia/Tokyo:20260117T193000
DTSTAMP:20260422T075736
CREATED:20251210T173602Z
LAST-MODIFIED:20251210T173602Z
UID:242-1768676400-1768678200@henmen.jp
SUMMARY:変面ショー・福満園本店
DESCRIPTION:ご予約先：045-662-5185
URL:https://henmen.jp/event/%e5%a4%89%e9%9d%a2%e3%82%b7%e3%83%a7%e3%83%bc%e3%83%bb%e7%a6%8f%e6%ba%80%e5%9c%92%e6%9c%ac%e5%ba%97-2/
END:VEVENT
BEGIN:VEVENT
DTSTART;TZID=Asia/Tokyo:20260116T190000
DTEND;TZID=Asia/Tokyo:20260116T193000
DTSTAMP:20260422T075736
CREATED:20251210T173742Z
LAST-MODIFIED:20251210T173742Z
UID:244-1768590000-1768591800@henmen.jp
SUMMARY:変面ショー・景徳鎮酒家
DESCRIPTION:ご予約先：045-641-5285
URL:https://henmen.jp/event/%e5%a4%89%e9%9d%a2%e3%82%b7%e3%83%a7%e3%83%bc%e3%83%bb%e6%99%af%e5%be%b3%e9%8e%ae%e9%85%92%e5%ae%b6/
END:VEVENT
BEGIN:VEVENT
DTSTART;TZID=Asia/Tokyo:20260115T190000
DTEND;TZID=Asia/Tokyo:20260115T193000
DTSTAMP:20260422T075736
CREATED:20251210T172859Z
LAST-MODIFIED:20251210T173352Z
UID:238-1768503600-1768505400@henmen.jp
SUMMARY:変面ショー・福満園本店
DESCRIPTION:ご予約先：045-662-5185
URL:https://henmen.jp/event/%e5%a4%89%e9%9d%a2%e3%82%b7%e3%83%a7%e3%83%bc%e3%83%bb%e7%a6%8f%e6%ba%80%e5%9c%92%e6%9c%ac%e5%ba%97/
END:VEVENT
END:VCALENDAR