BEGIN:VCALENDAR
VERSION:2.0
PRODID:-//横浜中華街で変面ショーを見よう！ - ECPv6.15.12.2//NONSGML v1.0//EN
CALSCALE:GREGORIAN
METHOD:PUBLISH
X-ORIGINAL-URL:https://henmen.jp
X-WR-CALDESC:横浜中華街で変面ショーを見よう！ のイベント
REFRESH-INTERVAL;VALUE=DURATION:PT1H
X-Robots-Tag:noindex
X-PUBLISHED-TTL:PT1H
BEGIN:VTIMEZONE
TZID:Asia/Tokyo
BEGIN:STANDARD
TZOFFSETFROM:+0900
TZOFFSETTO:+0900
TZNAME:JST
DTSTART:20250101T000000
END:STANDARD
END:VTIMEZONE
BEGIN:VEVENT
DTSTART;TZID=Asia/Tokyo:20260523T190000
DTEND;TZID=Asia/Tokyo:20260523T193000
DTSTAMP:20260422T051605
CREATED:20260401T175157Z
LAST-MODIFIED:20260401T175157Z
UID:443-1779562800-1779564600@henmen.jp
SUMMARY:変面ショー・福満園本店
DESCRIPTION:ご予約先：045-662-5185
URL:https://henmen.jp/event/%e5%a4%89%e9%9d%a2%e3%82%b7%e3%83%a7%e3%83%bc%e3%83%bb%e7%a6%8f%e6%ba%80%e5%9c%92%e6%9c%ac%e5%ba%97-37/
END:VEVENT
BEGIN:VEVENT
DTSTART;TZID=Asia/Tokyo:20260524T190000
DTEND;TZID=Asia/Tokyo:20260524T193000
DTSTAMP:20260422T051605
CREATED:20260401T174251Z
LAST-MODIFIED:20260401T174251Z
UID:407-1779649200-1779651000@henmen.jp
SUMMARY:変面ショー・景徳鎮酒家
DESCRIPTION:ご予約先：045-641-5285
URL:https://henmen.jp/event/%e5%a4%89%e9%9d%a2%e3%82%b7%e3%83%a7%e3%83%bc%e3%83%bb%e6%99%af%e5%be%b3%e9%8e%ae%e9%85%92%e5%ae%b6-38/
END:VEVENT
BEGIN:VEVENT
DTSTART;TZID=Asia/Tokyo:20260528T190000
DTEND;TZID=Asia/Tokyo:20260528T193000
DTSTAMP:20260422T051605
CREATED:20260401T175233Z
LAST-MODIFIED:20260401T175233Z
UID:445-1779994800-1779996600@henmen.jp
SUMMARY:変面ショー・福満園本店
DESCRIPTION:ご予約先：045-662-5185
URL:https://henmen.jp/event/%e5%a4%89%e9%9d%a2%e3%82%b7%e3%83%a7%e3%83%bc%e3%83%bb%e7%a6%8f%e6%ba%80%e5%9c%92%e6%9c%ac%e5%ba%97-38/
END:VEVENT
BEGIN:VEVENT
DTSTART;TZID=Asia/Tokyo:20260529T190000
DTEND;TZID=Asia/Tokyo:20260529T193000
DTSTAMP:20260422T051605
CREATED:20260401T174313Z
LAST-MODIFIED:20260401T174313Z
UID:409-1780081200-1780083000@henmen.jp
SUMMARY:変面ショー・景徳鎮酒家
DESCRIPTION:ご予約先：045-641-5285
URL:https://henmen.jp/event/%e5%a4%89%e9%9d%a2%e3%82%b7%e3%83%a7%e3%83%bc%e3%83%bb%e6%99%af%e5%be%b3%e9%8e%ae%e9%85%92%e5%ae%b6-39/
END:VEVENT
BEGIN:VEVENT
DTSTART;TZID=Asia/Tokyo:20260530T190000
DTEND;TZID=Asia/Tokyo:20260530T193000
DTSTAMP:20260422T051605
CREATED:20260401T175258Z
LAST-MODIFIED:20260401T175258Z
UID:447-1780167600-1780169400@henmen.jp
SUMMARY:変面ショー・福満園本店
DESCRIPTION:ご予約先：045-662-5185
URL:https://henmen.jp/event/%e5%a4%89%e9%9d%a2%e3%82%b7%e3%83%a7%e3%83%bc%e3%83%bb%e7%a6%8f%e6%ba%80%e5%9c%92%e6%9c%ac%e5%ba%97-39/
END:VEVENT
BEGIN:VEVENT
DTSTART;TZID=Asia/Tokyo:20260531T190000
DTEND;TZID=Asia/Tokyo:20260531T193000
DTSTAMP:20260422T051605
CREATED:20260401T174340Z
LAST-MODIFIED:20260401T174340Z
UID:411-1780254000-1780255800@henmen.jp
SUMMARY:変面ショー・景徳鎮酒家
DESCRIPTION:ご予約先：045-641-5285
URL:https://henmen.jp/event/%e5%a4%89%e9%9d%a2%e3%82%b7%e3%83%a7%e3%83%bc%e3%83%bb%e6%99%af%e5%be%b3%e9%8e%ae%e9%85%92%e5%ae%b6-40/
END:VEVENT
END:VCALENDAR