BEGIN:VCALENDAR
VERSION:2.0
PRODID:-//横浜中華街で変面ショーを見よう！ - ECPv6.15.12.2//NONSGML v1.0//EN
CALSCALE:GREGORIAN
METHOD:PUBLISH
X-WR-CALNAME:横浜中華街で変面ショーを見よう！
X-ORIGINAL-URL:https://henmen.jp
X-WR-CALDESC:横浜中華街で変面ショーを見よう！ のイベント
REFRESH-INTERVAL;VALUE=DURATION:PT1H
X-Robots-Tag:noindex
X-PUBLISHED-TTL:PT1H
BEGIN:VTIMEZONE
TZID:Asia/Tokyo
BEGIN:STANDARD
TZOFFSETFROM:+0900
TZOFFSETTO:+0900
TZNAME:JST
DTSTART:20250101T000000
END:STANDARD
END:VTIMEZONE
BEGIN:VEVENT
DTSTART;TZID=Asia/Tokyo:20260115T190000
DTEND;TZID=Asia/Tokyo:20260115T193000
DTSTAMP:20260422T035655
CREATED:20251210T172859Z
LAST-MODIFIED:20251210T173352Z
UID:238-1768503600-1768505400@henmen.jp
SUMMARY:変面ショー・福満園本店
DESCRIPTION:ご予約先：045-662-5185
URL:https://henmen.jp/event/%e5%a4%89%e9%9d%a2%e3%82%b7%e3%83%a7%e3%83%bc%e3%83%bb%e7%a6%8f%e6%ba%80%e5%9c%92%e6%9c%ac%e5%ba%97/
END:VEVENT
END:VCALENDAR